BEGIN:VCALENDAR
VERSION:2.0
PRODID:-//Karrieretag - ECPv6.15.16//NONSGML v1.0//EN
CALSCALE:GREGORIAN
METHOD:PUBLISH
X-ORIGINAL-URL:https://www.karrieretag.org
X-WR-CALDESC:Veranstaltungen für Karrieretag
REFRESH-INTERVAL;VALUE=DURATION:PT1H
X-Robots-Tag:noindex
X-PUBLISHED-TTL:PT1H
BEGIN:VTIMEZONE
TZID:Europe/Berlin
BEGIN:DAYLIGHT
TZOFFSETFROM:+0100
TZOFFSETTO:+0200
TZNAME:CEST
DTSTART:20250330T010000
END:DAYLIGHT
BEGIN:STANDARD
TZOFFSETFROM:+0200
TZOFFSETTO:+0100
TZNAME:CET
DTSTART:20251026T010000
END:STANDARD
BEGIN:DAYLIGHT
TZOFFSETFROM:+0100
TZOFFSETTO:+0200
TZNAME:CEST
DTSTART:20260329T010000
END:DAYLIGHT
BEGIN:STANDARD
TZOFFSETFROM:+0200
TZOFFSETTO:+0100
TZNAME:CET
DTSTART:20261025T010000
END:STANDARD
BEGIN:DAYLIGHT
TZOFFSETFROM:+0100
TZOFFSETTO:+0200
TZNAME:CEST
DTSTART:20270328T010000
END:DAYLIGHT
BEGIN:STANDARD
TZOFFSETFROM:+0200
TZOFFSETTO:+0100
TZNAME:CET
DTSTART:20271031T010000
END:STANDARD
END:VTIMEZONE
BEGIN:VEVENT
DTSTART;TZID=Europe/Berlin:20260519T100000
DTEND;TZID=Europe/Berlin:20260519T170000
DTSTAMP:20260424T131516
CREATED:20260120T160040Z
LAST-MODIFIED:20260120T160040Z
UID:10000058-1779184800-1779210000@www.karrieretag.org
SUMMARY:Ihr Ticket für den Karrieretag München am 19. MAI 2026\, 10 bis 17 Uhr
DESCRIPTION:Karrieretag München\, Dienstag\, 19. Mai 2026\, 10 bis 17 Uhr\nRegistrieren Sie sich mit Ihrer E-Mail-Adresse für Ihr kostenfreies Ticket.\nSie können das Ticket ausdrucken oder auf Ihrem Handy am Eingang vorzeigen. \nFragen zur Teilnahme als Besucher?Unsere Besucherhotline (+49 221 – 1705098–300) hilft Ihnen rund um die Uhr – KI-gestützt\, schnell und kostenlos.
URL:https://www.karrieretag.org/tickets/muenchen/
LOCATION:Zenith\, Lilienthalallee 29\, München\, 80939
END:VEVENT
END:VCALENDAR